BEGIN:VCALENDAR
VERSION:2.0
PRODID:-//SVP Wahlkreis Willisau //NONSGML Events //EN
CALSCALE:GREGORIAN
X-WR-CALNAME:SVP Wahlkreis Willisau
BEGIN:VEVENT
CREATED:20250918T131700Z
UID:32183
DTEND:20260901T000000
DTSTART:20260901T000000
DTSTAMP:20260420T081844Z
LOCATION:Aula Wydenhof
DESCRIPTION:
SUMMARY:Einwohnerratssitzung Ebikon Wahlen
ORGANIZER:
URL;VALUE=URI:https://www.svp-wahlkreiswillisau.ch/aktuell/termine/einwohnerratssitzung-ebikon-wahlen/
TRANSP:OPAQUE
END:VEVENT
END:VCALENDAR
