BEGIN:VCALENDAR
VERSION:2.0
PRODID:-//SVP Wahlkreis Willisau //NONSGML Events //EN
CALSCALE:GREGORIAN
X-WR-CALNAME:SVP Wahlkreis Willisau
BEGIN:VEVENT
CREATED:20221006T042612Z
UID:24633
DTEND:20231030T000000
DTSTART:20231030T000000
DTSTAMP:20260420T124629Z
LOCATION:
DESCRIPTION:
SUMMARY:Session Kantonsrat
ORGANIZER:
URL;VALUE=URI:https://www.svp-wahlkreiswillisau.ch/aktuell/termine/session-kantonsrat-42/
TRANSP:OPAQUE
END:VEVENT
END:VCALENDAR
