BEGIN:VCALENDAR
VERSION:2.0
PRODID:-//SVP Wahlkreis Willisau //NONSGML Events //EN
CALSCALE:GREGORIAN
X-WR-CALNAME:SVP Wahlkreis Willisau
BEGIN:VEVENT
CREATED:20221006T042612Z
UID:24630
DTEND:20231026T210000
DTSTART:20231026T160000
DTSTAMP:20260420T123859Z
LOCATION:Aula SH Zentrum
DESCRIPTION:
SUMMARY:Einwohnerratssitzung Horw
ORGANIZER:
URL;VALUE=URI:https://www.svp-wahlkreiswillisau.ch/aktuell/termine/einwohnerratssitzung-horw-34/
TRANSP:OPAQUE
END:VEVENT
END:VCALENDAR
